BEGIN:VCALENDAR
VERSION:2.0
PRODID:-//Cathedral of Saint Andrew - ECPv6.15.20//NONSGML v1.0//EN
CALSCALE:GREGORIAN
METHOD:PUBLISH
X-WR-CALNAME:Cathedral of Saint Andrew
X-ORIGINAL-URL:https://grcathedral.org
X-WR-CALDESC:Events for Cathedral of Saint Andrew
REFRESH-INTERVAL;VALUE=DURATION:PT1H
X-Robots-Tag:noindex
X-PUBLISHED-TTL:PT1H
BEGIN:VTIMEZONE
TZID:America/Detroit
BEGIN:DAYLIGHT
TZOFFSETFROM:-0500
TZOFFSETTO:-0400
TZNAME:EDT
DTSTART:20230312T070000
END:DAYLIGHT
BEGIN:STANDARD
TZOFFSETFROM:-0400
TZOFFSETTO:-0500
TZNAME:EST
DTSTART:20231105T060000
END:STANDARD
BEGIN:DAYLIGHT
TZOFFSETFROM:-0500
TZOFFSETTO:-0400
TZNAME:EDT
DTSTART:20240310T070000
END:DAYLIGHT
BEGIN:STANDARD
TZOFFSETFROM:-0400
TZOFFSETTO:-0500
TZNAME:EST
DTSTART:20241103T060000
END:STANDARD
BEGIN:DAYLIGHT
TZOFFSETFROM:-0500
TZOFFSETTO:-0400
TZNAME:EDT
DTSTART:20250309T070000
END:DAYLIGHT
BEGIN:STANDARD
TZOFFSETFROM:-0400
TZOFFSETTO:-0500
TZNAME:EST
DTSTART:20251102T060000
END:STANDARD
END:VTIMEZONE
BEGIN:VEVENT
DTSTART;TZID=America/Detroit:20240808T183000
DTEND;TZID=America/Detroit:20240808T194500
DTSTAMP:20260419T095517
CREATED:20240215T163208Z
LAST-MODIFIED:20240624T162758Z
UID:10002-1723141800-1723146300@grcathedral.org
SUMMARY:Grief Support
DESCRIPTION:Are you navigating the difficult journey of grief? However long it’s been since your loss\, you are welcome to participate in the upcoming 6-week session of our free Grief Support Group – a place to share stories\, listen\, and support one another. Facilitated by Irene Kraegel\, the group will meet August 8 through September 12 on Thursdays from 6:30-7:45pm. \nTo receive more information or to sign up\, contact the parish office 616-456-1454 x1909 or send an email to office@grcathedral.org.
URL:https://grcathedral.org/event/grief-support-2/
CATEGORIES:On Home Page,Parish Community
ATTACH;FMTTYPE=image/png:https://grcathedral.org/wp-content/uploads/2024/02/grief-support-for-web.png
END:VEVENT
BEGIN:VEVENT
DTSTART;TZID=America/Detroit:20240830T080000
DTEND;TZID=America/Detroit:20240830T170000
DTSTAMP:20260419T095517
CREATED:20240725T153949Z
LAST-MODIFIED:20240830T173047Z
UID:10518-1725004800-1725037200@grcathedral.org
SUMMARY:Jobs
DESCRIPTION:Cathedral of Saint Andrew\nBusiness Manager\nThe Business Manager is a full-time salaried Parish Staff member who reports directly to the Pastor. The Business Manager assists the church in carrying out its mission by planning and implementing effective organizational and fiscal processes to achieve its goals. Works under the direction of the Pastor and assists him with the parish’s stewardship of finances\, facilities\, and personnel. \nSEE JOB DESCRIPTION and how to apply \nCatholic Information Center (CIC)\nAbout the Leadership Formation Institute\nThe Leadership Formation Institute (LFI) fosters leadership development within the Catholic community. Our programs equip lay Catholics with the knowledge\, skills\, and spiritual depth necessary to serve their parishes and communities effectively. We address the evolving social and cultural contexts of West Michigan\, inviting people to know Christ and His Gospel. \nProgram Coordinator\nThe Program Coordinator will play a crucial role in the successful implementation and management of LFI programs. This individual will oversee the day-to-day operations\, coordinate events and program sessions\, and provide support to participants and mentors. The Program Coordinator will work closely with the Director of Programs and Institutes\, other staff\, program teams\, and guest presenters to ensure that all program activities align with the CIC mission and goals. This role requires a dynamic individual with a passion for leadership development\, intercultural competence\, and community building within the context of the Catholic Church. \nSEE JOB DESCRIPTION and how to apply \nCommunications Coordinator\nWe are seeking a creative and strategic thinker to fill the role of Communications Coordinator. This role involves developing\, implementing\, and overseeing the communications and marketing strategies for the Leadership Formation Institute at the Catholic Information Center. The ideal candidate will have strong written and verbal communication skills to enhance the visibility and engagement of the Institute’s programs and initiatives. \nSEE JOB DESCRIPTION and how to apply \n  \n 
URL:https://grcathedral.org/event/jobs/
CATEGORIES:Parish Community
ATTACH;FMTTYPE=image/png:https://grcathedral.org/wp-content/uploads/2024/08/event_hiring.png
END:VEVENT
END:VCALENDAR