BEGIN:VCALENDAR
VERSION:2.0
PRODID:-//Cathedral of Saint Andrew - ECPv6.15.20//NONSGML v1.0//EN
CALSCALE:GREGORIAN
METHOD:PUBLISH
X-ORIGINAL-URL:https://grcathedral.org
X-WR-CALDESC:Events for Cathedral of Saint Andrew
REFRESH-INTERVAL;VALUE=DURATION:PT1H
X-Robots-Tag:noindex
X-PUBLISHED-TTL:PT1H
BEGIN:VTIMEZONE
TZID:America/Detroit
BEGIN:DAYLIGHT
TZOFFSETFROM:-0500
TZOFFSETTO:-0400
TZNAME:EDT
DTSTART:20230312T070000
END:DAYLIGHT
BEGIN:STANDARD
TZOFFSETFROM:-0400
TZOFFSETTO:-0500
TZNAME:EST
DTSTART:20231105T060000
END:STANDARD
BEGIN:DAYLIGHT
TZOFFSETFROM:-0500
TZOFFSETTO:-0400
TZNAME:EDT
DTSTART:20240310T070000
END:DAYLIGHT
BEGIN:STANDARD
TZOFFSETFROM:-0400
TZOFFSETTO:-0500
TZNAME:EST
DTSTART:20241103T060000
END:STANDARD
BEGIN:DAYLIGHT
TZOFFSETFROM:-0500
TZOFFSETTO:-0400
TZNAME:EDT
DTSTART:20250309T070000
END:DAYLIGHT
BEGIN:STANDARD
TZOFFSETFROM:-0400
TZOFFSETTO:-0500
TZNAME:EST
DTSTART:20251102T060000
END:STANDARD
END:VTIMEZONE
BEGIN:VEVENT
DTSTART;TZID=America/Detroit:20241109T150000
DTEND;TZID=America/Detroit:20241109T170000
DTSTAMP:20260419T155131
CREATED:20241029T185605Z
LAST-MODIFIED:20241029T185605Z
UID:10779-1731164400-1731171600@grcathedral.org
SUMMARY:Parish Potluck
DESCRIPTION:All Are Invited! \nJoin your fellow parishioners for fellowship and good food and to hear more about the Gathering of 8 program. \nWhen:  Saturday\, November 9\, 3pm (before the 4:30pm Mass) \nWhere:  Parish Center (basement of cathedral) \nBring a dish to pass. Beverages are provided. No need to sign up. Children welcome. \nPlease park in the Division Lot and come in the side door\, as there is a wedding in the church that day and we don’t want to disturb them.  \n 
URL:https://grcathedral.org/event/parish-potluck/
LOCATION:Cathedral of Saint Andrew\, 215 Sheldon Blvd SE\, Grand Rapids\, MI\, 49503
CATEGORIES:On Home Page,Parish Community
ATTACH;FMTTYPE=image/png:https://grcathedral.org/wp-content/uploads/2024/10/Event_Potluck.png
END:VEVENT
END:VCALENDAR