BEGIN:VCALENDAR
VERSION:2.0
PRODID:-//Cathedral of Saint Andrew - ECPv6.15.20//NONSGML v1.0//EN
CALSCALE:GREGORIAN
METHOD:PUBLISH
X-ORIGINAL-URL:https://grcathedral.org
X-WR-CALDESC:Events for Cathedral of Saint Andrew
REFRESH-INTERVAL;VALUE=DURATION:PT1H
X-Robots-Tag:noindex
X-PUBLISHED-TTL:PT1H
BEGIN:VTIMEZONE
TZID:America/Detroit
BEGIN:DAYLIGHT
TZOFFSETFROM:-0500
TZOFFSETTO:-0400
TZNAME:EDT
DTSTART:20230312T070000
END:DAYLIGHT
BEGIN:STANDARD
TZOFFSETFROM:-0400
TZOFFSETTO:-0500
TZNAME:EST
DTSTART:20231105T060000
END:STANDARD
BEGIN:DAYLIGHT
TZOFFSETFROM:-0500
TZOFFSETTO:-0400
TZNAME:EDT
DTSTART:20240310T070000
END:DAYLIGHT
BEGIN:STANDARD
TZOFFSETFROM:-0400
TZOFFSETTO:-0500
TZNAME:EST
DTSTART:20241103T060000
END:STANDARD
BEGIN:DAYLIGHT
TZOFFSETFROM:-0500
TZOFFSETTO:-0400
TZNAME:EDT
DTSTART:20250309T070000
END:DAYLIGHT
BEGIN:STANDARD
TZOFFSETFROM:-0400
TZOFFSETTO:-0500
TZNAME:EST
DTSTART:20251102T060000
END:STANDARD
END:VTIMEZONE
BEGIN:VEVENT
DTSTART;TZID=America/Detroit:20240918T183000
DTEND;TZID=America/Detroit:20240918T193000
DTSTAMP:20260419T130839
CREATED:20240913T142537Z
LAST-MODIFIED:20240913T142537Z
UID:10668-1726684200-1726687800@grcathedral.org
SUMMARY:Creation Prayer Service
DESCRIPTION:Season of Creation Prayer Service\nThe theme for this year’s Season of Creation (September 1- October 4) is “To Hope and Act with Creation.” \nPlease join us outside on the piazza for a prayer service on Wednesday\, September 18\, at 6:30 pm. \nWe will pray\, read from Scripture\, and reflect on having hope despite all the devastation caused by climate change. \nIn the words of Archbishop Tutu: “Hope is being able to see that there is light – despite all the darkness.” \n 
URL:https://grcathedral.org/event/creation-prayer-service/
CATEGORIES:On Home Page,Prayer & Worship,Social Action
ATTACH;FMTTYPE=image/png:https://grcathedral.org/wp-content/uploads/2024/09/Event_creation-prayer-service.png
END:VEVENT
END:VCALENDAR